BEGIN:VCALENDAR
VERSION:2.0
PRODID:-//hacksw/handcal//NONSGML v1.0//EN
BEGIN:VEVENT
DTSTART:20260605T110000
DTEND:20260607T170000
LOCATION:Bordeaux
ORGANIZER;CN=Quentin HEUDE:MAILTO:quentin.heude@pigier.com
SUMMARY:Le Week-end des Grands Crus
DESCRIPTION:Le Week-end des Grands Crus revient à Bordeaux du 5 au 7 juin 2026.\nUne 20ème édition à ne pas manquer !Le Week-End des Grands Crusrevient à Bordeaux du 5 au 7 juin 2026 : une 20e édition attendue,...
URL:https://www.pigier-alumni.com/fr/event/le-week-end-des-grands-crus/2026/06/05/202
BEGIN:VALARM
TRIGGER:-P0DT1H0M0S
ACTION:DISPLAY
END:VALARM
END:VEVENT
END:VCALENDAR