BEGIN:VCALENDAR
VERSION:2.0
PRODID:-//hacksw/handcal//NONSGML v1.0//EN
BEGIN:VEVENT
DTSTART:20260611T110000
DTEND:20260614T210000
LOCATION:Lyon | Grandes Locos La Mulatière
ORGANIZER;CN=Quentin HEUDE:MAILTO:quentin.heude@pigier.com
SUMMARY:Lyon Street Food Festival
DESCRIPTION:Le Lyon Street Food Festival est un grand événement culinaire annuel célébrant la cuisine de rue, la gastronomie mondiale et la convivialité à Lyon, France. Il réunit chefs, artisans, et producteurs...
URL:https://www.pigier-alumni.com/fr/event/lyon-street-food-festival/2026/06/11/197
BEGIN:VALARM
TRIGGER:-P0DT1H0M0S
ACTION:DISPLAY
END:VALARM
END:VEVENT
END:VCALENDAR